Workbook

Sheet 01-2025
A1: GOVERNO DE SERGIPE
A2: DEMONSTRATIVO DAS COTAS RECEBIDAS DO ÓRGÃO CENTRAL MÊS:JANEIRO - EXERCÍCIO DE 2025
A3: CÓDIGO | B3: ESPECIFICAÇÃO | C3: PREVISÃO INICIAL | D3: PREVISÃO ATUALIZADA | E3: REALIZADO NO PERÍODO ANTERIOR | F3: REALIZADO NO PERÍODO | G3: TOTAL REALIZADO ATÉ O PERÍODO
A4: 19105 | B4: SECRETARIA DE ESTADO DO DESENVOLVIMENTO ECONOMICO E DA CIÊNCIA E TECNOLOGIA-SEDETEC | C4: =C7 -> 12122700 | D4: =D7 -> 12212781 | E4: 0 | F4: =F5+F6 -> 780448.06 | G4: =E4+F4 -> 780448.06
A5: 4.5.1.1.2.0.1.00 | B5: COTA RECEBIDA | E5: 0 | F5: 468499.06 | G5: =E5+F5 -> 468499.06
A6: 4.5.1.1.2.02.00 | B6: REPASSE RECEBIDO | E6: 0 | F6: 311949 | G6: =E6+F6 -> 311949
A7: FONTE: IGESP/SEFAZ | B7: TOTAL | C7: 12122700 | D7: 12212781 | E7: 0 | F7: =SUM(F5:F6) -> 780448.06 | G7: =E7+F7 -> 780448.06

Sheet 02-2025
A1: GOVERNO DE SERGIPE
A2: DEMONSTRATIVO DAS COTAS RECEBIDAS DO ÓRGÃO CENTRAL MÊS: FEVEREIRO - EXERCÍCIO DE 2025
A3: CÓDIGO | B3: ESPECIFICAÇÃO | C3: PREVISÃO INICIAL | D3: PREVISÃO ATUALIZADA | E3: REALIZADO NO PERÍODO ANTERIOR | F3: REALIZADO NO PERÍODO | G3: TOTAL REALIZADO ATÉ O PERÍODO
A4: 19105 | B4: SECRETARIA DE ESTADO DO DESENVOLVIMENTO ECONOMICO E DA CIÊNCIA E TECNOLOGIA-SEDETEC | C4: =C7 -> 12122700 | D4: =D7 -> 12212781 | E4: =E5+E6 -> 780448.06 | F4: =F5+F6 -> 719565.92 | G4: =E4+F4 -> 1500014
A5: 4.5.1.1.2.0.1.00 | B5: COTA RECEBIDA | E5: ='01-2025'!G5 -> 468499.06 | F5: 359565.92 | G5: =E5+F5 -> 828064.98
A6: 4.5.1.1.2.02.00 | B6: REPASSE RECEBIDO | E6: ='01-2025'!G6 -> 311949 | F6: 360000 | G6: =E6+F6 -> 671949
A7: FONTE: IGESP/SEFAZ | B7: TOTAL | C7: ='01-2025'!C7 -> 12122700 | D7: ='01-2025'!D7 -> 12212781 | E7: =SUM(E5:E6) -> 780448.06 | F7: =SUM(F5:F6) -> 719565.92 | G7: =E7+F7 -> 1500014

Sheet 03-2025
A1: GOVERNO DE SERGIPE
A2: DEMONSTRATIVO DAS COTAS RECEBIDAS DO ÓRGÃO CENTRAL MÊS: MARÇO - EXERCÍCIO DE 2025
A3: CÓDIGO | B3: ESPECIFICAÇÃO | C3: PREVISÃO INICIAL | D3: PREVISÃO ATUALIZADA | E3: REALIZADO NO PERÍODO ANTERIOR | F3: REALIZADO NO PERÍODO | G3: TOTAL REALIZADO ATÉ O PERÍODO
A4: 19105 | B4: SECRETARIA DE ESTADO DO DESENVOLVIMENTO ECONOMICO E DA CIÊNCIA E TECNOLOGIA-SEDETEC | C4: =C7 -> 12122700 | D4: =D7 -> 12212781 | E4: =E5+E6 -> 1500014 | F4: =F5+F6 -> 657248.41 | G4: =E4+F4 -> 2157262.4
A5: 4.5.1.1.2.0.1.00 | B5: COTA RECEBIDA | E5: ='02-2025'!G5 -> 828064.98 | F5: 357248.41 | G5: =E5+F5 -> 1185313.4
A6: 4.5.1.1.2.02.00 | B6: REPASSE RECEBIDO | E6: ='02-2025'!G6 -> 671949 | F6: 300000 | G6: =E6+F6 -> 971949
A7: FONTE: IGESP/SEFAZ | B7: TOTAL | C7: ='02-2025'!C7 -> 12122700 | D7: ='02-2025'!D7 -> 12212781 | E7: =SUM(E5:E6) -> 1500014 | F7: =SUM(F5:F6) -> 657248.41 | G7: =E7+F7 -> 2157262.4

Sheet 04-2025
A1: GOVERNO DE SERGIPE
A2: DEMONSTRATIVO DAS COTAS RECEBIDAS DO ÓRGÃO CENTRAL MÊS: ABRIL - EXERCÍCIO DE 2025
A3: CÓDIGO | B3: ESPECIFICAÇÃO | C3: PREVISÃO INICIAL | D3: PREVISÃO ATUALIZADA | E3: REALIZADO NO PERÍODO ANTERIOR | F3: REALIZADO NO PERÍODO | G3: TOTAL REALIZADO ATÉ O PERÍODO
A4: 19105 | B4: SECRETARIA DE ESTADO DO DESENVOLVIMENTO ECONOMICO E DA CIÊNCIA E TECNOLOGIA-SEDETEC | C4: =C7 -> 12122700 | D4: =D7 -> 12212781 | E4: =E5+E6 -> 2157262.4 | F4: =F5+F6 -> 725815.17 | G4: =E4+F4 -> 2883077.6
A5: 4.5.1.1.2.0.1.00 | B5: COTA RECEBIDA | E5: ='03-2025'!G5 -> 1185313.4 | F5: 425815.17 | G5: =E5+F5 -> 1611128.6
A6: 4.5.1.1.2.02.00 | B6: REPASSE RECEBIDO | E6: ='03-2025'!G6 -> 971949 | F6: 300000 | G6: =E6+F6 -> 1271949
A7: FONTE: IGESP/SEFAZ | B7: TOTAL | C7: ='03-2025'!C7 -> 12122700 | D7: ='03-2025'!D7 -> 12212781 | E7: =SUM(E5:E6) -> 2157262.4 | F7: =SUM(F5:F6) -> 725815.17 | G7: =E7+F7 -> 2883077.6

Sheet 05-2025
A1: GOVERNO DE SERGIPE
A2: DEMONSTRATIVO DAS COTAS RECEBIDAS DO ÓRGÃO CENTRAL MÊS: MAIO - EXERCÍCIO DE 2025
A3: CÓDIGO | B3: ESPECIFICAÇÃO | C3: PREVISÃO INICIAL | D3: PREVISÃO ATUALIZADA | E3: REALIZADO NO PERÍODO ANTERIOR | F3: REALIZADO NO PERÍODO | G3: TOTAL REALIZADO ATÉ O PERÍODO
A4: 19105 | B4: SECRETARIA DE ESTADO DO DESENVOLVIMENTO ECONOMICO E DA CIÊNCIA E TECNOLOGIA-SEDETEC | C4: =C7 -> 12122700 | D4: =D7 -> 17112781 | E4: =E5+E6 -> 2883077.6 | F4: =F5+F6 -> 833265.19 | G4: =E4+F4 -> 3716342.7
A5: 4.5.1.1.2.0.1.00 | B5: COTA RECEBIDA | E5: ='04-2025'!G5 -> 1611128.6 | F5: 513265.19 | G5: =E5+F5 -> 2124393.8
A6: 4.5.1.1.2.02.00 | B6: REPASSE RECEBIDO | E6: ='04-2025'!G6 -> 1271949 | F6: 320000 | G6: =E6+F6 -> 1591949
A7: FONTE: IGESP/SEFAZ | B7: TOTAL | C7: ='04-2025'!C7 -> 12122700 | D7: 17112781 | E7: =SUM(E5:E6) -> 2883077.6 | F7: =SUM(F5:F6) -> 833265.19 | G7: =E7+F7 -> 3716342.7

Sheet 06-2025
A1: GOVERNO DE SERGIPE
A2: DEMONSTRATIVO DAS COTAS RECEBIDAS DO ÓRGÃO CENTRAL MÊS: JUNHO - EXERCÍCIO DE 2025
A3: CÓDIGO | B3: ESPECIFICAÇÃO | C3: PREVISÃO INICIAL | D3: PREVISÃO ATUALIZADA | E3: REALIZADO NO PERÍODO ANTERIOR | F3: REALIZADO NO PERÍODO | G3: TOTAL REALIZADO ATÉ O PERÍODO
A4: 19105 | B4: SECRETARIA DE ESTADO DO DESENVOLVIMENTO ECONOMICO E DA CIÊNCIA E TECNOLOGIA-SEDETEC | C4: =C7 -> 12122700 | D4: =D7 -> 17112781 | E4: =E5+E6 -> 3716342.8 | F4: =F5+F6 -> 591776.85 | G4: =E4+F4 -> 4308119.6
A5: 4.5.1.1.2.0.1.00 | B5: COTA RECEBIDA | E5: ='05-2025'!G5 -> 2124393.8 | F5: 291776.85 | G5: =E5+F5 -> 2416170.6
A6: 4.5.1.1.2.02.00 | B6: REPASSE RECEBIDO | E6: ='05-2025'!G6 -> 1591949 | F6: 300000 | G6: =E6+F6 -> 1891949
A7: FONTE: IGESP/SEFAZ | B7: TOTAL | C7: ='05-2025'!C7 -> 12122700 | D7: ='05-2025'!D7 -> 17112781 | E7: =SUM(E5:E6) -> 3716342.8 | F7: =SUM(F5:F6) -> 591776.85 | G7: =E7+F7 -> 4308119.6

Sheet 07-2025
A1: GOVERNO DE SERGIPE
A2: DEMONSTRATIVO DAS COTAS RECEBIDAS DO ÓRGÃO CENTRAL MÊS: JULHO - EXERCÍCIO DE 2025
A3: CÓDIGO | B3: ESPECIFICAÇÃO | C3: PREVISÃO INICIAL | D3: PREVISÃO ATUALIZADA | E3: REALIZADO NO PERÍODO ANTERIOR | F3: REALIZADO NO PERÍODO | G3: TOTAL REALIZADO ATÉ O PERÍODO
A4: 19105 | B4: SECRETARIA DE ESTADO DO DESENVOLVIMENTO ECONOMICO E DA CIÊNCIA E TECNOLOGIA-SEDETEC | C4: =C7 -> 12122700 | D4: =D7 -> 17612281 | E4: =E5+E6 -> 4308119.6 | F4: =F5+F6 -> 946034.59 | G4: =E4+F4 -> 5254154.2
A5: 4.5.1.1.2.0.1.00 | B5: COTA RECEBIDA | E5: ='06-2025'!G5 -> 2416170.6 | F5: 646034.59 | G5: =E5+F5 -> 3062205.2
A6: 4.5.1.1.2.02.00 | B6: REPASSE RECEBIDO | E6: ='06-2025'!G6 -> 1891949 | F6: 300000 | G6: =E6+F6 -> 2191949
A7: FONTE: IGESP/SEFAZ | B7: TOTAL | C7: ='06-2025'!C7 -> 12122700 | D7: 17612281 | E7: =SUM(E5:E6) -> 4308119.6 | F7: =SUM(F5:F6) -> 946034.59 | G7: =E7+F7 -> 5254154.2

Sheet 08-2025
A1: GOVERNO DE SERGIPE
A2: DEMONSTRATIVO DAS COTAS RECEBIDAS DO ÓRGÃO CENTRAL MÊS: AGOSTO - EXERCÍCIO DE 2025
A3: CÓDIGO | B3: ESPECIFICAÇÃO | C3: PREVISÃO INICIAL | D3: PREVISÃO ATUALIZADA | E3: REALIZADO NO PERÍODO ANTERIOR | F3: REALIZADO NO PERÍODO | G3: TOTAL REALIZADO ATÉ O PERÍODO
A4: 19105 | B4: SECRETARIA DE ESTADO DO DESENVOLVIMENTO ECONOMICO E DA CIÊNCIA E TECNOLOGIA-SEDETEC | C4: =C7 -> 12122700 | D4: =D7 -> 17612281 | E4: =E5+E6 -> 5254154.2 | F4: =F5+F6 -> 680594.52 | G4: =E4+F4 -> 5934748.7
A5: 4.5.1.1.2.0.1.00 | B5: COTA RECEBIDA | E5: ='07-2025'!G5 -> 3062205.2 | F5: 380594.52 | G5: =E5+F5 -> 3442799.7
A6: 4.5.1.1.2.02.00 | B6: REPASSE RECEBIDO | E6: ='07-2025'!G6 -> 2191949 | F6: 300000 | G6: =E6+F6 -> 2491949
A7: FONTE: IGESP/SEFAZ | B7: TOTAL | C7: ='07-2025'!C7 -> 12122700 | D7: ='07-2025'!D7 -> 17612281 | E7: =SUM(E5:E6) -> 5254154.2 | F7: =SUM(F5:F6) -> 680594.52 | G7: =E7+F7 -> 5934748.7

Sheet 09-2025
A1: GOVERNO DE SERGIPE
A2: DEMONSTRATIVO DAS COTAS RECEBIDAS DO ÓRGÃO CENTRAL MÊS: SETEMBRO - EXERCÍCIO DE 2025
A3: CÓDIGO | B3: ESPECIFICAÇÃO | C3: PREVISÃO INICIAL | D3: PREVISÃO ATUALIZADA | E3: REALIZADO NO PERÍODO ANTERIOR | F3: REALIZADO NO PERÍODO | G3: TOTAL REALIZADO ATÉ O PERÍODO
A4: 19105 | B4: SECRETARIA DE ESTADO DO DESENVOLVIMENTO ECONOMICO E DA CIÊNCIA E TECNOLOGIA-SEDETEC | C4: =C7 -> 12122700 | D4: =D7 -> 16612781 | E4: =E5+E6 -> 5934748.7 | F4: =F5+F6 -> 726811.85 | G4: =E4+F4 -> 6661560.6
A5: 4.5.1.1.2.0.1.00 | B5: COTA RECEBIDA | E5: ='08-2025'!G5 -> 3442799.7 | F5: 416811.85 | G5: =E5+F5 -> 3859611.6
A6: 4.5.1.1.2.02.00 | B6: REPASSE RECEBIDO | E6: ='08-2025'!G6 -> 2491949 | F6: 310000 | G6: =E6+F6 -> 2801949
A7: FONTE: IGESP/SEFAZ | B7: TOTAL | C7: ='08-2025'!C7 -> 12122700 | D7: 16612781 | E7: =SUM(E5:E6) -> 5934748.7 | F7: =SUM(F5:F6) -> 726811.85 | G7: =E7+F7 -> 6661560.6

Sheet 10-2025
A1: GOVERNO DE SERGIPE
A2: DEMONSTRATIVO DAS COTAS RECEBIDAS DO ÓRGÃO CENTRAL MÊS: OUTUBRO - EXERCÍCIO DE 2025
A3: CÓDIGO | B3: ESPECIFICAÇÃO | C3: PREVISÃO INICIAL | D3: PREVISÃO ATUALIZADA | E3: REALIZADO NO PERÍODO ANTERIOR | F3: REALIZADO NO PERÍODO | G3: TOTAL REALIZADO ATÉ O PERÍODO
A4: 19105 | B4: SECRETARIA DE ESTADO DO DESENVOLVIMENTO ECONOMICO E DA CIÊNCIA E TECNOLOGIA-SEDETEC | C4: 12122700 | D4: 16612781 | E4: 5934748.7 | F4: 726811.85 | G4: 6661560.6
A5: 4.5.1.1.2.0.1.00 | B5: COTA RECEBIDA | E5: 4051940.4 | F5: 332861.72 | G5: 4384802.2
A6: 4.5.1.1.2.02.00 | B6: REPASSE RECEBIDO | E6: 2801949 | F6: 320000 | G6: 3121949
A7: FONTE: IGESP/SEFAZ | B7: TOTAL | C7: 12122700 | D7: 16612781 | E7: 5934748.7 | F7: 726811.85 | G7: 6661560.6

Sheet 11-2025
A1: GOVERNO DE SERGIPE
A2: DEMONSTRATIVO DAS COTAS RECEBIDAS DO ÓRGÃO CENTRAL MÊS: NOVEMBRO - EXERCÍCIO DE 2025
A3: CÓDIGO | B3: ESPECIFICAÇÃO | C3: PREVISÃO INICIAL | D3: PREVISÃO ATUALIZADA | E3: REALIZADO NO PERÍODO ANTERIOR | F3: REALIZADO NO PERÍODO | G3: TOTAL REALIZADO ATÉ O PERÍODO
A4: 19105 | B4: SECRETARIA DE ESTADO DO DESENVOLVIMENTO ECONOMICO E DA CIÊNCIA E TECNOLOGIA-SEDETEC | C4: =C7 -> 12122700 | D4: =D7 -> 16612781 | E4: =E5+E6 -> 7506751.2 | F4: =F5+F6 -> 1233674.3 | G4: =E4+F4 -> 8740425.4
A5: 4.5.1.1.2.0.1.00 | B5: COTA RECEBIDA | E5: 4384802.2 | F5: 913674.29 | G5: 5298476.5
A6: 4.5.1.1.2.02.00 | B6: REPASSE RECEBIDO | E6: 3121949 | F6: 320000 | G6: =E6+F6 -> 3441949
A7: FONTE: IGESP/SEFAZ | B7: TOTAL | C7: ='08-2025'!C7 -> 12122700 | D7: 16612781 | E7: =SUM(E5:E6) -> 7506751.2 | F7: =SUM(F5:F6) -> 1233674.3 | G7: =E7+F7 -> 8740425.4

Sheet 12-2025
A1: GOVERNO DE SERGIPE
A2: DEMONSTRATIVO DAS COTAS RECEBIDAS DO ÓRGÃO CENTRAL MÊS: DEZEMBRO - EXERCÍCIO DE 2025
A3: CÓDIGO | B3: ESPECIFICAÇÃO | C3: PREVISÃO INICIAL | D3: PREVISÃO ATUALIZADA | E3: REALIZADO NO PERÍODO ANTERIOR | F3: REALIZADO NO PERÍODO | G3: TOTAL REALIZADO ATÉ O PERÍODO
A4: 19105 | B4: SECRETARIA DE ESTADO DO DESENVOLVIMENTO ECONOMICO E DA CIÊNCIA E TECNOLOGIA-SEDETEC | C4: =C8 -> 12122700 | D4: =D8 -> 16612781 | E4: =E5+E6 -> 8740425.4 | F4: =F5+F6 -> 1124191.6 | G4: =E4+F4 -> 9864617.1
A5: 4.5.1.1.2.0.1.00 | B5: COTA RECEBIDA | E5: 5298476.5 | F5: 974191.65 | G5: 6272668.1
A6: 4.5.1.1.2.02.00 | B6: REPASSE RECEBIDO | E6: 3441949 | F6: 150000 | G6: 3591949
A7: 4.6.4.1.1.00.00 | B7: Ganhos com Desincorporação de Passivos -Consolidação | F7: 838.4 | G7: 838.4
A8: FONTE: IGESP/SEFAZ | B8: TOTAL | C8: ='08-2025'!C7 -> 12122700 | D8: 16612781 | E8: =SUM(E5:E6) -> 8740425.4 | F8: =SUM(F5:F6) -> 1124191.6 | G8: =E8+F8 -> 9864617.1
